BEGIN:VCALENDAR
VERSION:2.0
PRODID:icalendar-ruby
CALSCALE:GREGORIAN
METHOD:PUBLISH
BEGIN:VEVENT
DTSTAMP:20260425T175235Z
UID:157-80081@oaklakechurch.org
DTSTART:20260607T161000Z
DTEND:20260607T171000Z
CLASS:PUBLIC
CREATED:20260422T093546
DESCRIPTION:Oak Lake has a confirmation class that has completed their Stud
 y and are being confirmed on this date at Oak Lake.  \nAudrey Gunderson\
 nAva Spaulding\nCarley Sandell\nLusa Dipman\nCake and coffee will be serve
 d after the service.
LAST-MODIFIED:20260422T093546
LOCATION:Oak Lake Lutheran Church
SUMMARY:Confirmation Sunday
URL;VALUE=URI:https://oaklakechurch.org/events/confirmation-sunday/2026-06-
 07
ATTACH;FILENAME=Confirmation free clipart from google.jpg;FMTTYPE=image/jpe
 g:https://dq5pwpg1q8ru0.cloudfront.net/2026/04/22/14/35/46/f7014efb-c033-4
 ecd-a32a-c2f90abbc14a/Confirmation%20free%20clipart%20from%20google.jpg
END:VEVENT
END:VCALENDAR
