BEGIN:VCALENDAR
VERSION:2.0
PRODID:icalendar-ruby
CALSCALE:GREGORIAN
METHOD:PUBLISH
BEGIN:VEVENT
DTSTAMP:20260423T193257Z
UID:98-80167@oaklakechurch.org
DTSTART:20260513T230000Z
DTEND:20260514T003000Z
CLASS:PUBLIC
CREATED:20260422T101548
DESCRIPTION:6-7:30 on most Wednesdays except holidays or days that public s
 chools are closed. No classes on Wednesday October 15\, 2025 due to MEA sc
 hool break.
LAST-MODIFIED:20260422T101548
LOCATION:Oak Lake Church
SUMMARY:Confirmation
URL;VALUE=URI:https://oaklakechurch.org/events/confirmation/2026-05-13
ATTACH;FILENAME=free lutheran symbol.jpg;FMTTYPE=image/jpeg:https://dq5pwpg
 1q8ru0.cloudfront.net/2024/09/29/02/02/40/5875924b-aee6-4c54-885a-611327ba
 462a/free%20lutheran%20symbol.jpg
END:VEVENT
END:VCALENDAR
