BEGIN:VCALENDAR
VERSION:2.0
PRODID:icalendar-ruby
CALSCALE:GREGORIAN
METHOD:PUBLISH
BEGIN:VEVENT
DTSTAMP:20260425T175347Z
UID:156-79894@oaklakechurch.org
DTSTART:20260517T161500Z
DTEND:20260517T171000Z
CLASS:PUBLIC
CREATED:20260419T153839
DESCRIPTION:Honoring 2026 High School Graduates:\nMason Spaulding\,  Magnu
 s Koecher\, Blake Hoffman\, Sophie Gunderson\, Isaac Stadin\, Alek Shefchi
 k\nPlease join us in sending our Senior graduates with a blessing and a qu
 ilt from our quilting group.  Cake and refreshments will be served after 
 the service.
LAST-MODIFIED:20260419T153839
LOCATION:Oak Lake Lutheran Church
SUMMARY:Graduation Recognition Service
URL;VALUE=URI:https://oaklakechurch.org/events/graduation-recognition-servi
 ce--156/2026-05-17
ATTACH;FILENAME=OIP graduation free clipart.jpg;FMTTYPE=image/jpeg:https://
 dq5pwpg1q8ru0.cloudfront.net/2026/04/19/20/37/28/0adb3802-3113-4945-85ad-2
 6ee3dfb977b/OIP%20graduation%20free%20clipart.jpg
END:VEVENT
END:VCALENDAR
