BEGIN:VCALENDAR
VERSION:2.0
PRODID:icalendar-ruby
CALSCALE:GREGORIAN
METHOD:PUBLISH
BEGIN:VEVENT
DTSTAMP:20260425T143917Z
UID:11-80077@oaklakechurch.org
DTSTART;VALUE=DATE:20260519
DTEND;VALUE=DATE:20260519
CLASS:PUBLIC
CREATED:20260422T092644
DESCRIPTION:WELCA  meets for quilting\, luncheon\, bible study and busines
 s meeting the 3rd Tuesday of each month from September - May.\n 
LAST-MODIFIED:20260422T092644
LOCATION:Fellowship Hall 
SUMMARY:WELCA Meets
URL;VALUE=URI:https://oaklakechurch.org/events/welca-meets/2026-05-19
ATTACH;FILENAME=quilt.jpg;FMTTYPE=image/jpeg:https://dq5pwpg1q8ru0.cloudfro
 nt.net/2023/04/25/13/00/22/62e4245f-a31a-46bf-bea5-7f0de5cf4e15/quilt.jpg
END:VEVENT
END:VCALENDAR
